View In:
ArcGIS JavaScript
ArcGIS Online Map Viewer
ArcGIS Earth
Service Description: Town_of_Paradise/top_slope
Name: Town_of_Paradise/top_slope
Description:
Single Fused Map Cache: false
Extent:
XMin: 6628834.381211772
YMin: 2371277.1008135937
XMax: 6706509.07666635
YMax: 2446851.5932647525
Spatial Reference: 102642
(2226)
LatestVCSWkid(0)
Initial Extent:
XMin: 6628834.381211772
YMin: 2371277.1008135937
XMax: 6706509.07666635
YMax: 2446851.5932647525
Spatial Reference: 102642
(2226)
LatestVCSWkid(0)
Full Extent:
XMin: 6628834.381211772
YMin: 2371277.1008135937
XMax: 6706509.07666635
YMax: 2446851.5932647525
Spatial Reference: 102642
(2226)
LatestVCSWkid(0)
Pixel Size X: 32.815671928423285
Pixel Size Y: 32.815671928423285
Band Count: 1
Pixel Type: F32
RasterFunction Infos: {"rasterFunctionInfos": [{
"name": "None",
"description": "",
"help": ""
}]}
Mensuration Capabilities: Basic
Inspection Capabilities:
Has Histograms: true
Has Colormap: false
Has Multi Dimensions : false
Rendering Rule:
Min Scale: 0
Max Scale: 0
Copyright Text:
Service Data Type: esriImageServiceDataTypeGeneric
Min Values: 0
Max Values: 75.9838638305664
Mean Values: 14.858726626676132
Standard Deviation Values: 10.160554703540399
Object ID Field:
Fields:
None
Default Mosaic Method: Center
Allowed Mosaic Methods:
SortField:
SortValue: null
Mosaic Operator: First
Default Compression Quality: 75
Default Resampling Method: Bilinear
Max Record Count: null
Max Image Height: 4100
Max Image Width: 15000
Max Download Image Count: null
Max Mosaic Image Count: null
Allow Raster Function: true
Allow Copy: true
Allow Analysis: true
Allow Compute TiePoints: false
Supports Statistics: false
Supports Advanced Queries: false
Use StandardizedQueries: true
Raster Type Infos:
Name: Raster Dataset
Description: Supports all ArcGIS Raster Datasets
Help:
Has Raster Attribute Table: false
Edit Fields Info: null
Ownership Based AccessControl For Rasters: null
Child Resources:
Info
Histograms
Statistics
Key Properties
Legend
Raster Function Infos
Supported Operations:
Export Image
Identify
Measure
Compute Histograms
Compute Statistics Histograms
Get Samples
Compute Class Statistics
Query Boundary
Compute Pixel Location
Compute Angles
Validate
Project