{
 "currentVersion": 11.5,
 "serviceDescription": "Town_of_Paradise/top_slope",
 "name": "Town_of_Paradise/top_slope",
 "description": "",
 "extent": {
  "xmin": 6628834.381211772,
  "ymin": 2371277.1008135937,
  "xmax": 6706509.07666635,
  "ymax": 2446851.5932647525,
  "spatialReference": {
   "wkid": 102642,
   "latestWkid": 2226
  }
 },
 "initialExtent": {
  "xmin": 6628834.381211772,
  "ymin": 2371277.1008135937,
  "xmax": 6706509.07666635,
  "ymax": 2446851.5932647525,
  "spatialReference": {
   "wkid": 102642,
   "latestWkid": 2226
  }
 },
 "fullExtent": {
  "xmin": 6628834.381211772,
  "ymin": 2371277.1008135937,
  "xmax": 6706509.07666635,
  "ymax": 2446851.5932647525,
  "spatialReference": {
   "wkid": 102642,
   "latestWkid": 2226
  }
 },
 "sortableFields": "",
 "bandCount": 1,
 "pixelType": "F32",
 "minValues": [
  0
 ],
 "maxValues": [
  75.9838638305664
 ],
 "meanValues": [
  14.858726626676132
 ],
 "stdvValues": [
  10.160554703540399
 ],
 "serviceProperties": "Center<\/MosaicMethod>First<\/MosaicOperator>true<\/SortAscending><\/LockImageID><\/TileOrderField>0<\/TileOrderBase>0.000000<\/AvgImageSpacingX>0.000000<\/AvgImageSpacingY>0.0<\/ViewPointX>0.0<\/ViewPointY>0.0<\/ViewPointDefShiftX>0.0<\/ViewPointDefShiftY>None<\/CompressionMethod>75<\/CompressionQuality>0.010000<\/CompressionTolerance>Bilinear<\/SamplingMethod><\/ImageServiceProperties><\/ImageServer>",
 "allowedFields": "",
 "hasMultidimensions": false,
 "pixelSizeX": 32.815671928423285,
 "pixelSizeY": 32.815671928423285,
 "meanPixelSize": 10.002236808257035,
 "datasetFormat": "GRID",
 "uncompressedSize": 21804804,
 "blockWidth": 256,
 "blockHeight": 16,
 "compressionType": "RLE",
 "bandNames": [
  "pdem_ft_slope"
 ],
 "allowCopy": true,
 "allowAnalysis": true,
 "itemAccess": false,
 "inspectionCapabilities": "",
 "noDataValue": -3.4028234663852886E38,
 "noDataValues": [
  -3.4028234663852886E38
 ],
 "minPixelSize": 0,
 "maxPixelSize": 0,
 "copyrightText": "",
 "serviceDataType": "esriImageServiceDataTypeGeneric",
 "serviceSourceType": "esriImageServiceSourceTypeDataset",
 "objectIdField": "",
 "fields": [],
 "capabilities": "Image,Metadata,Mensuration",
 "defaultMosaicMethod": "Center",
 "allowedMosaicMethods": "",
 "sortField": "",
 "sortValue": null,
 "sortAscending": true,
 "mosaicOperator": "First",
 "defaultCompressionQuality": 75,
 "defaultResamplingMethod": "Bilinear",
 "maxImageHeight": 4100,
 "maxImageWidth": 15000,
 "allowRasterFunction": true,
 "rasterFunctionInfos": [
  {
   "name": "None",
   "description": "",
   "help": ""
  }
 ],
 "rasterTypeInfos": [
  {
   "name": "Raster Dataset",
   "description": "Supports all ArcGIS Raster Datasets",
   "help": ""
  }
 ],
 "mensurationCapabilities": "Basic",
 "hasHistograms": true,
 "hasColormap": false,
 "hasRasterAttributeTable": false,
 "minScale": 0,
 "maxScale": 0,
 "exportTilesAllowed": false,
 "supportsStatistics": false,
 "supportsAdvancedQueries": false,
 "editFieldsInfo": null,
 "ownershipBasedAccessControlForRasters": null,
 "allowComputeTiePoints": false,
 "useStandardizedQueries": true,
 "advancedQueryCapabilities": {
  "useStandardizedQueries": true,
  "supportsStatistics": false,
  "supportsOrderBy": false,
  "supportsDistinct": false,
  "supportsPagination": false
 },
 "spatialReference": {
  "wkid": 102642,
  "latestWkid": 2226
 }
}
