View In:
ArcGIS JavaScript
ArcGIS Online Map Viewer
ArcGIS Earth
Service Description: Town_of_Paradise/paradise_orthoimagery_6in_resolution_tif
Name: Town_of_Paradise/paradise_orthoimagery_6in_resolution_tif
Description:
Single Fused Map Cache: false
Extent:
XMin: 6651993.164900924
YMin: 2379987.640044625
XMax: 6686991.164900924
YMax: 2429984.140044625
Spatial Reference: 103004
(6418)
LatestVCSWkid(0)
Initial Extent:
XMin: 6651993.164900924
YMin: 2379987.640044625
XMax: 6686991.164900924
YMax: 2429984.140044625
Spatial Reference: 103004
(6418)
LatestVCSWkid(0)
Full Extent:
XMin: 6651993.164900924
YMin: 2379987.640044625
XMax: 6686991.164900924
YMax: 2429984.140044625
Spatial Reference: 103004
(6418)
LatestVCSWkid(0)
Pixel Size X: 0.5
Pixel Size Y: 0.5
Band Count: 4
Pixel Type: U8
RasterFunction Infos: {"rasterFunctionInfos": [{
"name": "None",
"description": "",
"help": ""
}]}
Mensuration Capabilities: Basic
Inspection Capabilities:
Has Histograms: true
Has Colormap: false
Has Multi Dimensions : false
Rendering Rule:
Min Scale: 0
Max Scale: 0
Copyright Text:
Service Data Type: esriImageServiceDataTypeGeneric
Min Values: 0, 0, 0, 0
Max Values: 255, 255, 255, 255
Mean Values: 76.333041008455, 71.4099627433, 69.380915426092, 85.6173393709
Standard Deviation Values: 71.989762450678, 65.915906419203, 62.926840619189, 77.321067419445
Object ID Field:
Fields:
None
Default Mosaic Method: Center
Allowed Mosaic Methods:
SortField:
SortValue: null
Mosaic Operator: First
Default Compression Quality: 75
Default Resampling Method: Bilinear
Max Record Count: null
Max Image Height: 4100
Max Image Width: 15000
Max Download Image Count: null
Max Mosaic Image Count: null
Allow Raster Function: true
Allow Copy: true
Allow Analysis: true
Allow Compute TiePoints: false
Supports Statistics: false
Supports Advanced Queries: false
Use StandardizedQueries: true
Raster Type Infos:
Name: Raster Dataset
Description: Supports all ArcGIS Raster Datasets
Help:
Has Raster Attribute Table: false
Edit Fields Info: null
Ownership Based AccessControl For Rasters: null
Child Resources:
Info
Histograms
Statistics
Key Properties
Legend
Raster Function Infos
Supported Operations:
Export Image
Identify
Measure
Compute Histograms
Compute Statistics Histograms
Get Samples
Compute Class Statistics
Query Boundary
Compute Pixel Location
Compute Angles
Validate
Project